BEGIN:VCALENDAR
VERSION:2.0
PRODID:-//casaofsoutheasternillinois.org//NONSGML kigkonsult.se iCalcreator
  2.30.10//
CALSCALE:GREGORIAN
METHOD:PUBLISH
UID:4d78fad0-211a-4519-8d9c-c26738919eec
X-WR-CALDESC:MOVED TO RAIN DATE 5/17/24\nCASA of Southeastern Illinois Golf
  Tournament \nHosted by \nStates Attorneys Molly Wilson and Doug Dyhrkopp 
 \nSheriffs Whipper Johnson and Shannon Bradley \nFriday May 17th 2024\nSal
 ine County Golf and Country Club \nTee times 8:00 AM and 1:00 PM \nTeams $
 300  \nSponsor Packages \nEvent Sponsor $1000 – Team\, Live Hole\, Banner 
 at Clubhouse \nCorporate Sponsor $500- Team\, Live Hole\, Sign at Clubhous
 e \nBirdie Sponsor $250- Sign at clubhouse \nPar Sponsor $200- Sign on Gre
 en \nLive Hole Sponsor $150- Table at Hole \nHole Sponsor $100- Sign at Ho
 le \nBreakfast and Lunch will be provided \nPlease contact CASA (618)499-3
 830 for more information \n
X-WR-RELCALID:a72db8137cf11879f676823064b31d67
X-WR-TIMEZONE:America/Chicago
BEGIN:VTIMEZONE
TZID:America/Chicago
BEGIN:STANDARD
TZNAME:CST
DTSTART:20231105T020000
TZOFFSETFROM:-0500
TZOFFSETTO:-0600
RDATE:20241103T020000
RDATE:20251102T020000
END:STANDARD
BEGIN:DAYLIGHT
TZNAME:CDT
DTSTART:20240310T020000
TZOFFSETFROM:-0600
TZOFFSETTO:-0500
RDATE:20250309T020000
END:DAYLIGHT
END:VTIMEZONE
BEGIN:VEVENT
UID:29c517c7-7645-4595-8d5b-6022c3f093ae
DTSTAMP:20260423T005703Z
DESCRIPTION:MOVED TO RAIN DATE 5/17/24\nCASA of Southeastern Illinois Golf 
 Tournament \nHosted by \nStates Attorneys Molly Wilson and Doug Dyhrkopp 
 \nSheriffs Whipper Johnson and Shannon Bradley \nFriday May 17th 2024\nSal
 ine County Golf and Country Club \nTee times 8:00 AM and 1:00 PM \nTeams $
 300  \nSponsor Packages \nEvent Sponsor $1000 – Team\, Live Hole\, Banner 
 at Clubhouse \nCorporate Sponsor $500- Team\, Live Hole\, Sign at Clubhous
 e \nBirdie Sponsor $250- Sign at clubhouse \nPar Sponsor $200- Sign on Gre
 en \nLive Hole Sponsor $150- Table at Hole \nHole Sponsor $100- Sign at Ho
 le \nBreakfast and Lunch will be provided \nPlease contact CASA (618)499-3
 830 for more information \n
DTSTART;TZID=America/Chicago:20240517T050000
DTEND;TZID=America/Chicago:20240517T050001
LOCATION:Saline County Golf and Country Club\, 355 Golf Course Rd\, Eldorad
 o\, IL 62930 US
SUMMARY:CASA Golf Tournament
END:VEVENT
END:VCALENDAR
